BEGIN:VCALENDAR
VERSION:2.0
PRODID:icalendar-ruby
CALSCALE:GREGORIAN
METHOD:PUBLISH
BEGIN:VTIMEZONE
TZID:Australia/Perth
BEGIN:STANDARD
DTSTART:20090329T020000
TZOFFSETFROM:+0900
TZOFFSETTO:+0800
TZNAME:AWST
END:STANDARD
END:VTIMEZONE
BEGIN:VEVENT
DTSTAMP:20260421T234624Z
UID:inspection_3007883
DTSTART;TZID=Australia/Perth:20260425T110000
DTEND;TZID=Australia/Perth:20260425T114000
CLASS:PUBLIC
CREATED:20260421T134903
DESCRIPTION: 
LAST-MODIFIED:20260421T134903
LOCATION:407 / 126-128 Mounts Bay Road\, PERTH WA 6000\, Australia
SUMMARY:407 / 126-128 Mounts Bay Road\,  Inspection
URL;VALUE=URI:realtyone.com.au
END:VEVENT
END:VCALENDAR
