BEGIN:VCALENDAR
VERSION:2.0
PRODID:icalendar-ruby
CALSCALE:GREGORIAN
METHOD:PUBLISH
BEGIN:VTIMEZONE
TZID:Australia/Perth
BEGIN:STANDARD
DTSTART:20090329T020000
TZOFFSETFROM:+0900
TZOFFSETTO:+0800
TZNAME:AWST
END:STANDARD
END:VTIMEZONE
BEGIN:VEVENT
DTSTAMP:20260421T113507Z
UID:inspection_3007885
DTSTART;TZID=Australia/Perth:20260425T131500
DTEND;TZID=Australia/Perth:20260425T140000
CLASS:PUBLIC
CREATED:20260421T134903
DESCRIPTION: 
LAST-MODIFIED:20260421T134903
LOCATION:509B Leach Highway\, BATEMAN WA 6150\, Australia
SUMMARY:509B Leach Highway\,  Inspection
URL;VALUE=URI:realtyone.com.au
END:VEVENT
END:VCALENDAR
