BEGIN:VCALENDAR
VERSION:2.0
PRODID:icalendar-ruby
CALSCALE:GREGORIAN
METHOD:PUBLISH
BEGIN:VTIMEZONE
TZID:Australia/Perth
BEGIN:STANDARD
DTSTART:20090329T020000
TZOFFSETFROM:+0900
TZOFFSETTO:+0800
TZNAME:AWST
END:STANDARD
END:VTIMEZONE
BEGIN:VEVENT
DTSTAMP:20260425T131504Z
UID:inspection_3009928
DTSTART;TZID=Australia/Perth:20260425T120000
DTEND;TZID=Australia/Perth:20260425T124500
CLASS:PUBLIC
CREATED:20260422T142807
DESCRIPTION: 
LAST-MODIFIED:20260422T142807
LOCATION:34 / 35 Wellington Street\, EAST PERTH WA 6004\, Australia
SUMMARY:34 / 35 Wellington Street\,  Inspection
URL;VALUE=URI:realtyone.com.au
END:VEVENT
END:VCALENDAR
